BEGIN:VCALENDAR
VERSION:2.0
PRODID:-//UC Irvine Department of Ecology and Evolutionary Biology - ECPv6.15.18//NONSGML v1.0//EN
CALSCALE:GREGORIAN
METHOD:PUBLISH
X-WR-CALNAME:UC Irvine Department of Ecology and Evolutionary Biology
X-ORIGINAL-URL:https://ecoevo.bio.uci.edu
X-WR-CALDESC:Events for UC Irvine Department of Ecology and Evolutionary Biology
REFRESH-INTERVAL;VALUE=DURATION:PT1H
X-Robots-Tag:noindex
X-PUBLISHED-TTL:PT1H
BEGIN:VTIMEZONE
TZID:America/Los_Angeles
BEGIN:DAYLIGHT
TZOFFSETFROM:-0800
TZOFFSETTO:-0700
TZNAME:PDT
DTSTART:20250309T100000
END:DAYLIGHT
BEGIN:STANDARD
TZOFFSETFROM:-0700
TZOFFSETTO:-0800
TZNAME:PST
DTSTART:20251102T090000
END:STANDARD
BEGIN:DAYLIGHT
TZOFFSETFROM:-0800
TZOFFSETTO:-0700
TZNAME:PDT
DTSTART:20260308T100000
END:DAYLIGHT
BEGIN:STANDARD
TZOFFSETFROM:-0700
TZOFFSETTO:-0800
TZNAME:PST
DTSTART:20261101T090000
END:STANDARD
BEGIN:DAYLIGHT
TZOFFSETFROM:-0800
TZOFFSETTO:-0700
TZNAME:PDT
DTSTART:20270314T100000
END:DAYLIGHT
BEGIN:STANDARD
TZOFFSETFROM:-0700
TZOFFSETTO:-0800
TZNAME:PST
DTSTART:20271107T090000
END:STANDARD
END:VTIMEZONE
BEGIN:VEVENT
DTSTART;TZID=America/Los_Angeles:20260424T150000
DTEND;TZID=America/Los_Angeles:20260424T160000
DTSTAMP:20260420T172748
CREATED:20250930T012645Z
LAST-MODIFIED:20260305T185122Z
UID:6293-1777042800-1777046400@ecoevo.bio.uci.edu
SUMMARY:Dr. Jessica Hellmann\, University of Minnesota “The challenges\, opportunities\, and game-changers of adapting to a changing climate.”
DESCRIPTION:(Host: Jessica Pratt)
URL:https://ecoevo.bio.uci.edu/event/dr-jessica-hellmann-university-of-minnesota-host-jessica-pratt-the-challenges-opportunities-and-game-changers-of-adapting-to-a-changing-climate/
LOCATION:Natural Sciences 1\, 1114\, 1114 Natural Sciences 1\, Irvine\, CA\, 92697\, United States
END:VEVENT
END:VCALENDAR